BEGIN:VCALENDAR
VERSION:2.0
PRODID:-//Ayuntamiento de Sax - ECPv6.15.17.1//NONSGML v1.0//EN
CALSCALE:GREGORIAN
METHOD:PUBLISH
X-WR-CALNAME:Ayuntamiento de Sax
X-ORIGINAL-URL:https://www.sax.es
X-WR-CALDESC:Eventos para Ayuntamiento de Sax
REFRESH-INTERVAL;VALUE=DURATION:PT1H
X-Robots-Tag:noindex
X-PUBLISHED-TTL:PT1H
BEGIN:VTIMEZONE
TZID:Europe/Madrid
BEGIN:DAYLIGHT
TZOFFSETFROM:+0100
TZOFFSETTO:+0200
TZNAME:CEST
DTSTART:20240331T010000
END:DAYLIGHT
BEGIN:STANDARD
TZOFFSETFROM:+0200
TZOFFSETTO:+0100
TZNAME:CET
DTSTART:20241027T010000
END:STANDARD
BEGIN:DAYLIGHT
TZOFFSETFROM:+0100
TZOFFSETTO:+0200
TZNAME:CEST
DTSTART:20250330T010000
END:DAYLIGHT
BEGIN:STANDARD
TZOFFSETFROM:+0200
TZOFFSETTO:+0100
TZNAME:CET
DTSTART:20251026T010000
END:STANDARD
BEGIN:DAYLIGHT
TZOFFSETFROM:+0100
TZOFFSETTO:+0200
TZNAME:CEST
DTSTART:20260329T010000
END:DAYLIGHT
BEGIN:STANDARD
TZOFFSETFROM:+0200
TZOFFSETTO:+0100
TZNAME:CET
DTSTART:20261025T010000
END:STANDARD
END:VTIMEZONE
BEGIN:VEVENT
DTSTART;TZID=Europe/Madrid:20250413T190000
DTEND;TZID=Europe/Madrid:20250413T210000
DTSTAMP:20260423T204945
CREATED:20250411T081243Z
LAST-MODIFIED:20250411T081243Z
UID:10000049-1744570800-1744578000@www.sax.es
SUMMARY:CONCIERTO DE SEMANA SANTA
DESCRIPTION:Domingo 13 de abril19:00 hParroquia Ntra. Sra. de la Asunción · Sax \nLa Unión Musical y Artística de Sax nos invita a vivir la emoción y la solemnidad de la Semana Santa a través de su Banda Sinfónica.Un concierto muy especial a beneficio de la Asociación de Conservación y Restauración de la Iglesia.Donativo: 3 €Entradas a la venta en:· Joaqui Gil Modas· Herbolario Azahar· Estanco Isabel Senabre· Panadería Avelina· Y el mismo día en la iglesia
URL:https://www.sax.es/event/concierto-de-semana-santa/
LOCATION:Iglesia Nuestra Señora de la Asunción\, Pl. Constitución\, 1203\, Sax\, Alicante\, 03630\, Spain
CATEGORIES:Cultura
ORGANIZER;CN="Ayuntamiento de Sax":MAILTO:participacionciudadana@sax.es
END:VEVENT
BEGIN:VEVENT
DTSTART;TZID=Europe/Madrid:20250228T193000
DTEND;TZID=Europe/Madrid:20250228T210000
DTSTAMP:20260423T204945
CREATED:20250212T123435Z
LAST-MODIFIED:20250227T112815Z
UID:10000047-1740771000-1740776400@www.sax.es
SUMMARY:Presentación de “Huida con parada y fonda”
DESCRIPTION:A las 19:30 horas\, presentación de “Huida con parada y fonda” en la Mayordomía de San Blas.
URL:https://www.sax.es/event/presentacion-de-huida-con-parada-y-fonda/
LOCATION:Mayordomía de San Blas\, C. Médico Cortés\, 18\, 03630 Sax\, Alicante\, Sax\, Alicante\, 03630\, Spain
CATEGORIES:Cultura
ORGANIZER;CN="Ayuntamiento de Sax":MAILTO:participacionciudadana@sax.es
END:VEVENT
BEGIN:VEVENT
DTSTART;TZID=Europe/Madrid:20250222T200000
DTEND;TZID=Europe/Madrid:20250222T220000
DTSTAMP:20260423T204945
CREATED:20250212T123240Z
LAST-MODIFIED:20250212T123240Z
UID:10000046-1740254400-1740261600@www.sax.es
SUMMARY:Gran desfile de Carnaval.
DESCRIPTION:A las 20:00 horas gran desfile de Carnaval.
URL:https://www.sax.es/event/gran-desfile-de-carnaval/
CATEGORIES:Carnaval
ORGANIZER;CN="Ayuntamiento de Sax":MAILTO:participacionciudadana@sax.es
END:VEVENT
BEGIN:VEVENT
DTSTART;TZID=Europe/Madrid:20250221T190000
DTEND;TZID=Europe/Madrid:20250221T200000
DTSTAMP:20260423T204945
CREATED:20250207T113722Z
LAST-MODIFIED:20250207T113722Z
UID:10000044-1740164400-1740168000@www.sax.es
SUMMARY:Inauguración de la exposición de Mercedes Candelas “Tiempo sin tiempo”
DESCRIPTION:Por la tarde\, en el CEAHM Alberto Sols\, inauguración de la exposición de Mercedes Candelas “Tiempo sin tiempo”.
URL:https://www.sax.es/event/inauguracion-de-la-exposicion-de-mercedes-candelas-tiempo-sin-tiempo/
LOCATION:Museo Alberto Sols\, C. Mayor\, 30\, Sax\, Alicante\, 03630\, Spain
CATEGORIES:Cultura
ORGANIZER;CN="Ayuntamiento de Sax":MAILTO:participacionciudadana@sax.es
END:VEVENT
BEGIN:VEVENT
DTSTART;TZID=Europe/Madrid:20250221T173000
DTEND;TZID=Europe/Madrid:20250221T190000
DTSTAMP:20260423T204945
CREATED:20250212T123150Z
LAST-MODIFIED:20250212T123150Z
UID:10000045-1740159000-1740164400@www.sax.es
SUMMARY:Pregón y desfile infantil Carnaval
DESCRIPTION:A las 17:30 horas pregón y desfile infantil.
URL:https://www.sax.es/event/pregon-y-desfile-infantil-carnaval/
CATEGORIES:Carnaval
ORGANIZER;CN="Ayuntamiento de Sax":MAILTO:participacionciudadana@sax.es
END:VEVENT
BEGIN:VEVENT
DTSTART;TZID=Europe/Madrid:20250216T090000
DTEND;TZID=Europe/Madrid:20250216T110000
DTSTAMP:20260423T204945
CREATED:20250207T113405Z
LAST-MODIFIED:20250207T113405Z
UID:10000043-1739696400-1739703600@www.sax.es
SUMMARY:Pasacalles desde la Plaza de la Constitución hasta el Parque de los Príncipes
DESCRIPTION:A las 9:00 horas pasacalles desde la Plaza de la Constitución hasta el Parque de los Príncipes.
URL:https://www.sax.es/event/pasacalles-desde-la-plaza-de-la-constitucion-hasta-el-parque-de-los-principes/
LOCATION:Plaza Constitución\, Pl. Constitución\, Sax\, Alicante\, 03630\, Spain
CATEGORIES:Santa Eulalia
ORGANIZER;CN="Ayuntamiento de Sax":MAILTO:participacionciudadana@sax.es
END:VEVENT
BEGIN:VEVENT
DTSTART;TZID=Europe/Madrid:20250214T193000
DTEND;TZID=Europe/Madrid:20250214T203000
DTSTAMP:20260423T204945
CREATED:20250207T103934Z
LAST-MODIFIED:20250207T104010Z
UID:10000042-1739561400-1739565000@www.sax.es
SUMMARY:Presentación del libro “El tesoro de Alejandría”\, de Carmen Galvañ Bernabé
DESCRIPTION:A las 19:30 horas en la Sala Polivalente del Auditorio-Casa de Cultura\, presentación del libro “El tesoro de Alejandría”\, de Carmen Galvañ Bernabé.
URL:https://www.sax.es/event/presentacion-del-libro-el-tesoro-de-alejandria-de-carmen-galvan-bernabe/
LOCATION:Casa de Cultura y Auditorio\, C. Espiga\, 1\, Sax\, Alicante\, 03630\, Spain
CATEGORIES:Cultura
ORGANIZER;CN="Ayuntamiento de Sax":MAILTO:participacionciudadana@sax.es
END:VEVENT
BEGIN:VEVENT
DTSTART;VALUE=DATE:20250214
DTEND;VALUE=DATE:20250217
DTSTAMP:20260423T204945
CREATED:20250131T121011Z
LAST-MODIFIED:20250131T121011Z
UID:10000041-1739491200-1739750399@www.sax.es
SUMMARY:Precios reducidos en las atracciones para los niños
DESCRIPTION:Precios reducidos en las atracciones para los niños
URL:https://www.sax.es/event/precios-reducidos-en-las-atracciones-para-los-ninos/
CATEGORIES:Feria
ORGANIZER;CN="Ayuntamiento de Sax":MAILTO:participacionciudadana@sax.es
END:VEVENT
BEGIN:VEVENT
DTSTART;TZID=Europe/Madrid:20250205T183000
DTEND;TZID=Europe/Madrid:20250205T200000
DTSTAMP:20260423T204945
CREATED:20250131T120907Z
LAST-MODIFIED:20250131T120907Z
UID:10000040-1738780200-1738785600@www.sax.es
SUMMARY:Desfile de comparsas y nuevos capitanes
DESCRIPTION:Desfile de comparsas y nuevos capitanes\, a las 18:30 h.
URL:https://www.sax.es/event/desfile-de-comparsas-y-nuevos-capitanes/
CATEGORIES:Fiestas
ORGANIZER;CN="Ayuntamiento de Sax":MAILTO:participacionciudadana@sax.es
END:VEVENT
BEGIN:VEVENT
DTSTART;TZID=Europe/Madrid:20250205T121500
DTEND;TZID=Europe/Madrid:20250205T130000
DTSTAMP:20260423T204945
CREATED:20250131T120828Z
LAST-MODIFIED:20250131T120828Z
UID:10000039-1738757700-1738760400@www.sax.es
SUMMARY:Rifa de regalos al Santo Patrón
DESCRIPTION:Rifa de regalos al Santo Patrón\, a las 12:15 h.
URL:https://www.sax.es/event/rifa-de-regalos-al-santo-patron/
CATEGORIES:Fiestas
ORGANIZER;CN="Ayuntamiento de Sax":MAILTO:participacionciudadana@sax.es
END:VEVENT
BEGIN:VEVENT
DTSTART;TZID=Europe/Madrid:20250205T103000
DTEND;TZID=Europe/Madrid:20250205T120000
DTSTAMP:20260423T204945
CREATED:20250131T120737Z
LAST-MODIFIED:20250131T120737Z
UID:10000038-1738751400-1738756800@www.sax.es
SUMMARY:Misa de gracias
DESCRIPTION:Misa de gracias\, a las 10:30 h en la plaza de San Blas.
URL:https://www.sax.es/event/misa-de-gracias/
LOCATION:Plaza de San Blas\, C. Castillo\, 1\, Sax\, Alicante\, 03630\, Spain
CATEGORIES:Fiestas
ORGANIZER;CN="Ayuntamiento de Sax":MAILTO:participacionciudadana@sax.es
END:VEVENT
BEGIN:VEVENT
DTSTART;TZID=Europe/Madrid:20250205T083000
DTEND;TZID=Europe/Madrid:20250205T100000
DTSTAMP:20260423T204945
CREATED:20250131T120638Z
LAST-MODIFIED:20250131T120638Z
UID:10000037-1738744200-1738749600@www.sax.es
SUMMARY:Diana desde la plaza del Ayuntamiento
DESCRIPTION:Diana\, a las 8:30 h desde la plaza del Ayuntamiento.
URL:https://www.sax.es/event/diana-desde-la-plaza-del-ayuntamiento-2/
LOCATION:Plaza Constitución\, Pl. Constitución\, Sax\, Alicante\, 03630\, Spain
CATEGORIES:Fiestas
ORGANIZER;CN="Ayuntamiento de Sax":MAILTO:participacionciudadana@sax.es
END:VEVENT
BEGIN:VEVENT
DTSTART;TZID=Europe/Madrid:20250204T201500
DTEND;TZID=Europe/Madrid:20250204T221500
DTSTAMP:20260423T204945
CREATED:20250129T081756Z
LAST-MODIFIED:20250129T081756Z
UID:10000036-1738700100-1738707300@www.sax.es
SUMMARY:Embajada Cristiana
DESCRIPTION:Embajada Cristiana.
URL:https://www.sax.es/event/embajada-cristiana/
CATEGORIES:Fiestas
ORGANIZER;CN="Ayuntamiento de Sax":MAILTO:participacionciudadana@sax.es
END:VEVENT
BEGIN:VEVENT
DTSTART;TZID=Europe/Madrid:20250204T181500
DTEND;TZID=Europe/Madrid:20250204T201500
DTSTAMP:20260423T204945
CREATED:20250129T081716Z
LAST-MODIFIED:20250129T081716Z
UID:10000035-1738692900-1738700100@www.sax.es
SUMMARY:Desfile de comparsas y entrada del Embajador Moro
DESCRIPTION:Desfile de comparsas y entrada del Embajador Moro\, a las 18:15 h.
URL:https://www.sax.es/event/desfile-de-comparsas-y-entrada-del-embajador-moro/
CATEGORIES:Fiestas
ORGANIZER;CN="Ayuntamiento de Sax":MAILTO:participacionciudadana@sax.es
END:VEVENT
BEGIN:VEVENT
DTSTART;TZID=Europe/Madrid:20250204T093000
DTEND;TZID=Europe/Madrid:20250204T130000
DTSTAMP:20260423T204945
CREATED:20250129T081518Z
LAST-MODIFIED:20250129T081518Z
UID:10000034-1738661400-1738674000@www.sax.es
SUMMARY:Subida del Santo
DESCRIPTION:Subida del Santo\, a las 9:30 h
URL:https://www.sax.es/event/subida-del-santo/
CATEGORIES:Fiestas
ORGANIZER;CN="Ayuntamiento de Sax":MAILTO:participacionciudadana@sax.es
END:VEVENT
BEGIN:VEVENT
DTSTART;TZID=Europe/Madrid:20250204T083000
DTEND;TZID=Europe/Madrid:20250204T093000
DTSTAMP:20260423T204945
CREATED:20250129T081141Z
LAST-MODIFIED:20250129T081141Z
UID:10000033-1738657800-1738661400@www.sax.es
SUMMARY:Diana desde la plaza del Ayuntamiento
DESCRIPTION:Diana\, a las 8:30 h desde la plaza del Ayuntamiento.
URL:https://www.sax.es/event/diana-desde-la-plaza-del-ayuntamiento/
LOCATION:Plaza Constitución\, Pl. Constitución\, Sax\, Alicante\, 03630\, Spain
CATEGORIES:Fiestas
ORGANIZER;CN="Ayuntamiento de Sax":MAILTO:participacionciudadana@sax.es
END:VEVENT
BEGIN:VEVENT
DTSTART;TZID=Europe/Madrid:20250203T201500
DTEND;TZID=Europe/Madrid:20250203T221500
DTSTAMP:20260423T204945
CREATED:20250129T080856Z
LAST-MODIFIED:20250129T080959Z
UID:10000032-1738613700-1738620900@www.sax.es
SUMMARY:Embajada Mora
DESCRIPTION:Embajada Mora
URL:https://www.sax.es/event/embajada-mora/
CATEGORIES:Fiestas
ORGANIZER;CN="Ayuntamiento de Sax":MAILTO:participacionciudadana@sax.es
END:VEVENT
BEGIN:VEVENT
DTSTART;TZID=Europe/Madrid:20250203T181500
DTEND;TZID=Europe/Madrid:20250203T201500
DTSTAMP:20260423T204945
CREATED:20250129T080732Z
LAST-MODIFIED:20250129T080926Z
UID:10000031-1738606500-1738613700@www.sax.es
SUMMARY:Desfile de comparsas y entrada del Embajador Cristiano
DESCRIPTION:Desfile de comparsas y entrada del Embajador Cristiano\, a las 18:15 h.
URL:https://www.sax.es/event/desfile-de-comparsas-y-entrada-del-embajador-cristiano/
CATEGORIES:Fiestas
ORGANIZER;CN="Ayuntamiento de Sax":MAILTO:participacionciudadana@sax.es
END:VEVENT
BEGIN:VEVENT
DTSTART;TZID=Europe/Madrid:20250203T110000
DTEND;TZID=Europe/Madrid:20250203T130000
DTSTAMP:20260423T204945
CREATED:20250129T080640Z
LAST-MODIFIED:20250129T080640Z
UID:10000030-1738580400-1738587600@www.sax.es
SUMMARY:Procesión de San Blas
DESCRIPTION:Procesión de San Blas
URL:https://www.sax.es/event/procesion-de-san-blas/
CATEGORIES:Fiestas
ORGANIZER;CN="Ayuntamiento de Sax":MAILTO:participacionciudadana@sax.es
END:VEVENT
BEGIN:VEVENT
DTSTART;TZID=Europe/Madrid:20250203T110000
DTEND;TZID=Europe/Madrid:20250203T120000
DTSTAMP:20260423T204945
CREATED:20250129T080416Z
LAST-MODIFIED:20250129T080416Z
UID:10000029-1738580400-1738584000@www.sax.es
SUMMARY:Misa Mayor en la parroquia de Ntra. Sra. de la Asunción
DESCRIPTION:Misa Mayor a las 11:00 h en la parroquia de Ntra. Sra. de la Asunción
URL:https://www.sax.es/event/misa-mayor-en-la-parroquia-de-ntra-sra-de-la-asuncion/
LOCATION:Iglesia Nuestra Señora de la Asunción\, Pl. Constitución\, 1203\, Sax\, Alicante\, 03630\, Spain
CATEGORIES:Fiestas
ORGANIZER;CN="Ayuntamiento de Sax":MAILTO:participacionciudadana@sax.es
END:VEVENT
BEGIN:VEVENT
DTSTART;TZID=Europe/Madrid:20250203T095000
DTEND;TZID=Europe/Madrid:20250203T110000
DTSTAMP:20260423T204945
CREATED:20250129T080327Z
LAST-MODIFIED:20250129T080327Z
UID:10000028-1738576200-1738580400@www.sax.es
SUMMARY:Acto del Predicador
DESCRIPTION:Acto del Predicador a las 9:50 h.
URL:https://www.sax.es/event/acto-del-predicador/
CATEGORIES:Fiestas
ORGANIZER;CN="Ayuntamiento de Sax":MAILTO:participacionciudadana@sax.es
END:VEVENT
BEGIN:VEVENT
DTSTART;TZID=Europe/Madrid:20250203T083000
DTEND;TZID=Europe/Madrid:20250203T095000
DTSTAMP:20260423T204945
CREATED:20250129T080227Z
LAST-MODIFIED:20250129T080227Z
UID:10000027-1738571400-1738576200@www.sax.es
SUMMARY:Diana desde el colegio HH Carmelitas hasta la Plaza del Ayuntamiento
DESCRIPTION:Diana\, a las 8:30 h desde el colegio HH Carmelitas hasta la Plaza del Ayuntamiento.
URL:https://www.sax.es/event/diana-desde-el-colegio-hh-carmelitas-hasta-la-plaza-del-ayuntamiento/
LOCATION:Plaza Constitución\, Pl. Constitución\, Sax\, Alicante\, 03630\, Spain
CATEGORIES:Fiestas
ORGANIZER;CN="Ayuntamiento de Sax":MAILTO:participacionciudadana@sax.es
END:VEVENT
BEGIN:VEVENT
DTSTART;TZID=Europe/Madrid:20250202T171500
DTEND;TZID=Europe/Madrid:20250202T190000
DTSTAMP:20260423T204945
CREATED:20250128T111458Z
LAST-MODIFIED:20250128T111458Z
UID:10000026-1738516500-1738522800@www.sax.es
SUMMARY:Bajada del Santo
DESCRIPTION:Bajada del Santo\, a las 17:15 h con disparo de arcabucería.
URL:https://www.sax.es/event/bajada-del-santo/
CATEGORIES:Fiestas
ORGANIZER;CN="Ayuntamiento de Sax":MAILTO:participacionciudadana@sax.es
END:VEVENT
BEGIN:VEVENT
DTSTART;TZID=Europe/Madrid:20250202T093000
DTEND;TZID=Europe/Madrid:20250202T130000
DTSTAMP:20260423T204945
CREATED:20250128T111349Z
LAST-MODIFIED:20250128T111349Z
UID:10000025-1738488600-1738501200@www.sax.es
SUMMARY:Procesión de las Candelas
DESCRIPTION:Procesión de las Candelas a las 9:30 h.
URL:https://www.sax.es/event/procesion-de-las-candelas/
CATEGORIES:Fiestas
ORGANIZER;CN="Ayuntamiento de Sax":MAILTO:participacionciudadana@sax.es
END:VEVENT
BEGIN:VEVENT
DTSTART;TZID=Europe/Madrid:20250202T083000
DTEND;TZID=Europe/Madrid:20250202T093000
DTSTAMP:20260423T204945
CREATED:20250128T111300Z
LAST-MODIFIED:20250129T081157Z
UID:10000024-1738485000-1738488600@www.sax.es
SUMMARY:Diana desde la plaza del Ayuntamiento
DESCRIPTION:Diana\, a las 8:30 h desde la plaza del Ayuntamiento.
URL:https://www.sax.es/event/diana/
LOCATION:Plaza Constitución\, Pl. Constitución\, Sax\, Alicante\, 03630\, Spain
CATEGORIES:Fiestas
ORGANIZER;CN="Ayuntamiento de Sax":MAILTO:participacionciudadana@sax.es
END:VEVENT
BEGIN:VEVENT
DTSTART;TZID=Europe/Madrid:20250201T214500
DTEND;TZID=Europe/Madrid:20250202T000000
DTSTAMP:20260423T204945
CREATED:20250128T104855Z
LAST-MODIFIED:20250128T104855Z
UID:10000023-1738446300-1738454400@www.sax.es
SUMMARY:Ruedo de banderas en la plaza Cervantes
DESCRIPTION:Ruedo de banderas en la plaza Cervantes
URL:https://www.sax.es/event/ruedo-de-banderas-en-la-plaza-cervantes/
LOCATION:Plaza Cervantes\, Pl. Cervantes\, 1\, 03630 Sax\, Alicante\, Sax\, Alicante\, 03630\, Spain
CATEGORIES:Fiestas
ORGANIZER;CN="Ayuntamiento de Sax":MAILTO:participacionciudadana@sax.es
END:VEVENT
BEGIN:VEVENT
DTSTART;TZID=Europe/Madrid:20250201T214500
DTEND;TZID=Europe/Madrid:20250202T000000
DTSTAMP:20260423T204945
CREATED:20250128T104752Z
LAST-MODIFIED:20250128T104752Z
UID:10000022-1738446300-1738454400@www.sax.es
SUMMARY:Retreta
DESCRIPTION:Retreta\, a las 21:45 h desde la plaza del Ayuntamiento hasta la ermita de San Blas.
URL:https://www.sax.es/event/retreta/
LOCATION:Ermita de San Blas\, C. Castillo\, 1\, Sax\, Alicante\, 03630\, Spain
CATEGORIES:Fiestas
ORGANIZER;CN="Ayuntamiento de Sax":MAILTO:participacionciudadana@sax.es
END:VEVENT
BEGIN:VEVENT
DTSTART;TZID=Europe/Madrid:20250201T164500
DTEND;TZID=Europe/Madrid:20250201T200000
DTSTAMP:20260423T204945
CREATED:20250128T104616Z
LAST-MODIFIED:20250128T104616Z
UID:10000021-1738428300-1738440000@www.sax.es
SUMMARY:Gran entrada triunfal
DESCRIPTION:Gran entrada triunfal\, a las 16:45 h desde el Puente Picayo con la participación de todas las comparsas
URL:https://www.sax.es/event/gran-entrada-triunfal/
CATEGORIES:Fiestas
ORGANIZER;CN="Ayuntamiento de Sax":MAILTO:participacionciudadana@sax.es
END:VEVENT
BEGIN:VEVENT
DTSTART;TZID=Europe/Madrid:20250201T104500
DTEND;TZID=Europe/Madrid:20250201T150000
DTSTAMP:20260423T204945
CREATED:20250128T104402Z
LAST-MODIFIED:20250128T104408Z
UID:10000020-1738406700-1738422000@www.sax.es
SUMMARY:Entrada de bandas y Acto de apertura de la fiesta y Fiesta del Pasodoble de Sax.
DESCRIPTION:Entrada de bandas\, a las 10:45 h desde el colegio HH. Carmelitas hasta la Plaza del Ayuntamiento.\nActo de apertura de la fiesta y Fiesta del Pasodoble de Sax.
URL:https://www.sax.es/event/entrada-de-bandas-y-acto-de-apertura-de-la-fiesta-y-fiesta-del-pasodoble-de-sax/
LOCATION:Plaza Constitución\, Pl. Constitución\, Sax\, Alicante\, 03630\, Spain
CATEGORIES:Fiestas
ORGANIZER;CN="Ayuntamiento de Sax":MAILTO:participacionciudadana@sax.es
END:VEVENT
BEGIN:VEVENT
DTSTART;TZID=Europe/Madrid:20250201T000000
DTEND;TZID=Europe/Madrid:20250206T000000
DTSTAMP:20260423T204945
CREATED:20250128T102333Z
LAST-MODIFIED:20250128T102532Z
UID:10000019-1738368000-1738800000@www.sax.es
SUMMARY:Fiestas de Moros y Cristianos en honor a San Blas
DESCRIPTION:DEL 1 AL 5 de FEBRERO\nFiestas de Moros y Cristianos en honor a San Blas
URL:https://www.sax.es/event/fiestas-de-moros-y-cristianos-en-honor-a-san-blas/
CATEGORIES:Fiestas
ORGANIZER;CN="Ayuntamiento de Sax":MAILTO:participacionciudadana@sax.es
END:VEVENT
END:VCALENDAR